BEGIN:VCALENDAR
VERSION:2.0
PRODID:-//Tukios.com/
BEGIN:VEVENT
UID:2ee96d87-04cb-4ced-8035-0e8d01cd5832@www.bensingfuneralhome.net
DTSTAMP:20260421T232208Z
DTSTART:20260428T143000Z
DTEND:20260428T150000Z
SUMMARY:Graveside Service
DESCRIPTION:
URL:https://www.bensingfuneralhome.net/obituaries/malin-cooper
LOCATION:Washington Crossings National Cemetery 830 Highland Road  
	Newtown PA 18940
GEO:40.2649026;-74.9049353
END:VEVENT
END:VCALENDAR