BEGIN:VCALENDAR
VERSION:2.0
PRODID:-//Tukios.com/
BEGIN:VEVENT
UID:b68d17ee-82dd-413b-a59b-589ce1ca2d66@www.bensingfuneralhome.net
DTSTAMP:20260420T221156Z
DTSTART:20260606T190000Z
DTEND:20260606T200000Z
SUMMARY:Celebration of Life
DESCRIPTION:
URL:https://www.bensingfuneralhome.net/obituaries/frank-delmore
LOCATION:Country Gate Playhouse 114 Greenwich Street  Belvidere NJ 07823
GEO:40.8280008;-75.0790887
END:VEVENT
END:VCALENDAR